BEGIN:VCALENDAR
VERSION:2.0
PRODID:-//U20 Poetry Slam Wien - ECPv6.15.20//NONSGML v1.0//EN
CALSCALE:GREGORIAN
METHOD:PUBLISH
X-ORIGINAL-URL:https://u20poetryslam.at
X-WR-CALDESC:Veranstaltungen für U20 Poetry Slam Wien
REFRESH-INTERVAL;VALUE=DURATION:PT1H
X-Robots-Tag:noindex
X-PUBLISHED-TTL:PT1H
BEGIN:VTIMEZONE
TZID:Europe/Vienna
BEGIN:DAYLIGHT
TZOFFSETFROM:+0100
TZOFFSETTO:+0200
TZNAME:CEST
DTSTART:20240331T010000
END:DAYLIGHT
BEGIN:STANDARD
TZOFFSETFROM:+0200
TZOFFSETTO:+0100
TZNAME:CET
DTSTART:20241027T010000
END:STANDARD
BEGIN:DAYLIGHT
TZOFFSETFROM:+0100
TZOFFSETTO:+0200
TZNAME:CEST
DTSTART:20250330T010000
END:DAYLIGHT
BEGIN:STANDARD
TZOFFSETFROM:+0200
TZOFFSETTO:+0100
TZNAME:CET
DTSTART:20251026T010000
END:STANDARD
BEGIN:DAYLIGHT
TZOFFSETFROM:+0100
TZOFFSETTO:+0200
TZNAME:CEST
DTSTART:20260329T010000
END:DAYLIGHT
BEGIN:STANDARD
TZOFFSETFROM:+0200
TZOFFSETTO:+0100
TZNAME:CET
DTSTART:20261025T010000
END:STANDARD
END:VTIMEZONE
BEGIN:VEVENT
DTSTART;TZID=Europe/Vienna:20251004T183000
DTEND;TZID=Europe/Vienna:20251004T193000
DTSTAMP:20260419T194206
CREATED:20241206T150649Z
LAST-MODIFIED:20250719T132031Z
UID:235809-1759602600-1759606200@u20poetryslam.at
SUMMARY:Poetry Slam Tullnerbach
DESCRIPTION:Am 3. – 5.10. finden wieder die Kulturtage Kreatives Tullnerbach statt. Dabei gibt es die Gelegenheit beim Poetry Slam mitzumachen.\n\n4.10. | 19:30 im Gemeindezentrum Tullnerbach – freier Eintritt!\n\n\n\nPoetry Slam – das geschriebene Wort wird zum Leben erweckt! Kurzweilig\, intensiv und interaktiv. Mit einem Zeitlimit von 6 Minuten pro Person\, Verzicht auf Requisiten und Kostüme und völlig frei in der Textgattung und Sprache treten Menschen mit ihren selbstgeschriebenen Texten auf. Möchtest du auf der Bühne mitmachen? Schreib uns!\n\n\n\nModeration: Adina Wilcke | info@poetryslam.online\n\n\n\nFür die Vorbereitung wird ein Poetry Slam Workshop am Freitag\, 12. September\, 16 – 19 Uhr im Gemeindezentrum\, Adresse: Hauptstraße 47\, 3013 Tullnerbach angeboten.
URL:https://u20poetryslam.at/veranstaltungen/poetry-slam-tullnerbach/
LOCATION:Tullnerbach Gemeindezentrum\, Hauptstraße 47\, Tullnerbach\, 3013
CATEGORIES:andere U20 Slams
ATTACH;FMTTYPE=image/jpeg:https://u20poetryslam.at/wp-content/uploads/2025/03/Adina-mit-Jury.jpg
END:VEVENT
END:VCALENDAR