BEGIN:VCALENDAR
VERSION:2.0
PRODID:-//U20 Poetry Slam Wien - ECPv6.15.20//NONSGML v1.0//EN
CALSCALE:GREGORIAN
METHOD:PUBLISH
X-WR-CALNAME:U20 Poetry Slam Wien
X-ORIGINAL-URL:https://u20poetryslam.at
X-WR-CALDESC:Veranstaltungen für U20 Poetry Slam Wien
REFRESH-INTERVAL;VALUE=DURATION:PT1H
X-Robots-Tag:noindex
X-PUBLISHED-TTL:PT1H
BEGIN:VTIMEZONE
TZID:Europe/Vienna
BEGIN:DAYLIGHT
TZOFFSETFROM:+0100
TZOFFSETTO:+0200
TZNAME:CEST
DTSTART:20240331T010000
END:DAYLIGHT
BEGIN:STANDARD
TZOFFSETFROM:+0200
TZOFFSETTO:+0100
TZNAME:CET
DTSTART:20241027T010000
END:STANDARD
BEGIN:DAYLIGHT
TZOFFSETFROM:+0100
TZOFFSETTO:+0200
TZNAME:CEST
DTSTART:20250330T010000
END:DAYLIGHT
BEGIN:STANDARD
TZOFFSETFROM:+0200
TZOFFSETTO:+0100
TZNAME:CET
DTSTART:20251026T010000
END:STANDARD
BEGIN:DAYLIGHT
TZOFFSETFROM:+0100
TZOFFSETTO:+0200
TZNAME:CEST
DTSTART:20260329T010000
END:DAYLIGHT
BEGIN:STANDARD
TZOFFSETFROM:+0200
TZOFFSETTO:+0100
TZNAME:CET
DTSTART:20261025T010000
END:STANDARD
END:VTIMEZONE
BEGIN:VEVENT
DTSTART;TZID=Europe/Vienna:20250912T150000
DTEND;TZID=Europe/Vienna:20250912T180000
DTSTAMP:20260419T212835
CREATED:20250217T144215Z
LAST-MODIFIED:20250719T132058Z
UID:235844-1757689200-1757700000@u20poetryslam.at
SUMMARY:Poetry Slam Workshop Tullnerbach
DESCRIPTION:Am 3. – 5.10. finden wieder die Kulturtage Kreatives Tullnerbach statt. Dabei gibt es die Gelegenheit beim Poetry Slam mitzumachen.\n\n\n\nPoetry Slam – das geschriebene Wort wird zum Leben erweckt! Kurzweilig\, intensiv und interaktiv. Mit einem Zeitlimit von 6 Minuten pro Person\, Verzicht auf Requisiten und Kostüme und völlig frei in der Textgattung und Sprache treten Menschen mit ihren selbstgeschriebenen Texten auf. Möchtest du mitmachen? Schreib uns! (Es gibt kein Alterslimit\, alle können dabei sein).\n\n\n\nWorkshopleiterin: Adina Wilcke | info@poetryslam.online\n\n\nFür die Vorbereitung wird ein Poetry Slam Workshop am Freitag\, 12. September\, 16 – 19 Uhr im Gemeindezentrum\, Adresse: Hauptstraße 47\, 3013 Tullnerbach angeboten.\n\n\n\nAm 4.10. gibt es dann die Möglichkeit den eigenen Beitrag bei den Kulturtagen zu präsentieren – oder einfach dabei zu sein und zuzuhören.
URL:https://u20poetryslam.at/veranstaltungen/poetry-slam-workshop-tullnerbach/
LOCATION:Tullnerbach Gemeindezentrum\, Hauptstraße 47\, Tullnerbach\, 3013
CATEGORIES:schreib'KLASSE,Workshop
ATTACH;FMTTYPE=image/jpeg:https://u20poetryslam.at/wp-content/uploads/2024/12/cHelmut-Prochart.jpg
END:VEVENT
END:VCALENDAR